BEGIN:VCALENDAR
VERSION:2.0
PRODID:-//Leading from Within - ECPv6.15.16.1//NONSGML v1.0//EN
CALSCALE:GREGORIAN
METHOD:PUBLISH
X-ORIGINAL-URL:https://leading-from-within.org
X-WR-CALDESC:Events for Leading from Within
REFRESH-INTERVAL;VALUE=DURATION:PT1H
X-Robots-Tag:noindex
X-PUBLISHED-TTL:PT1H
BEGIN:VTIMEZONE
TZID:America/Los_Angeles
BEGIN:DAYLIGHT
TZOFFSETFROM:-0800
TZOFFSETTO:-0700
TZNAME:PDT
DTSTART:20220313T100000
END:DAYLIGHT
BEGIN:STANDARD
TZOFFSETFROM:-0700
TZOFFSETTO:-0800
TZNAME:PST
DTSTART:20221106T090000
END:STANDARD
BEGIN:DAYLIGHT
TZOFFSETFROM:-0800
TZOFFSETTO:-0700
TZNAME:PDT
DTSTART:20230312T100000
END:DAYLIGHT
BEGIN:STANDARD
TZOFFSETFROM:-0700
TZOFFSETTO:-0800
TZNAME:PST
DTSTART:20231105T090000
END:STANDARD
BEGIN:DAYLIGHT
TZOFFSETFROM:-0800
TZOFFSETTO:-0700
TZNAME:PDT
DTSTART:20240310T100000
END:DAYLIGHT
BEGIN:STANDARD
TZOFFSETFROM:-0700
TZOFFSETTO:-0800
TZNAME:PST
DTSTART:20241103T090000
END:STANDARD
END:VTIMEZONE
BEGIN:VEVENT
DTSTART;TZID=America/Los_Angeles:20230521T110000
DTEND;TZID=America/Los_Angeles:20230521T133000
DTSTAMP:20260424T071900
CREATED:20230220T181654Z
LAST-MODIFIED:20230321T203938Z
UID:10000155-1684666800-1684675800@leading-from-within.org
SUMMARY:RESCHEDULED- Arroyo Hondo Alumni Hike
DESCRIPTION:We have rescheduled to Sunday\, May 21 when the wildflowers should be incredible!\n\nLet’s Get Outside!\nArroyo Hondo Docent Led LFW Alumni Hike\nHosted by Katherine Harvey Fellows Alumni – Open to all LFW alumni! \nSunday\, May 21\n11:00 am\n\n\nJoin us for a 90-minute docent-led hike followed by a picnic lunch (provided): experience and learn about the scenic Arroyo Hondo Preserve and the work the Land Trust for Santa Barbara County is doing to preserve this “Jewel on the Gaviota Coast.”  \nHere’s an intro from their website: “The Arroyo Hondo Preserve is a magnificent canyon located west of Santa Barbara between Refugio State Beach and Gaviota State Park on 782-acres. Purchased from the Hollister family in late 2001\, Arroyo Hondo is protected forever and managed by the Land Trust as a natural and historic preserve. The preserve is rich in Chumash and early California history and the canyon and meadows are thriving with wildlife.” \nIf you haven’t been there before it is located between Refugio and Gaviota on the right side of the freeway.\nSpace is limited to 30 people\, so  RSVPs will be taken in the order they are received. \n\nEmail julie@leading-from-within.org with questions.\nRSVP Here\n\n\nIt is recommended to wear layered clothing and bring a hat\, sunscreen\, and water.    FYI\, pets are not allowed at this time. \nArroyo Hondo Preserve website link: https://www.sblandtrust.org/land/arroyo-hondo-preserve/
URL:https://leading-from-within.org/events/arroyo-hondo-alumni-hike/
LOCATION:Arroyo Hondo Preserve\, CA-1\, Goleta\, CA\, 93117
CATEGORIES:CTL Calendar,ELP Calendar,Home Page Calendar,KHF Calendar,LCI Calendar
END:VEVENT
END:VCALENDAR